BEGIN:VCALENDAR
VERSION:2.0
CALSCALE:GREGORIAN
PRODID:adamgibbons/ics
METHOD:PUBLISH
X-PUBLISHED-TTL:PT1H
BEGIN:VEVENT
UID:8278@calendari.cc
SUMMARY:12-O Tanquem les xarxes colonials
DTSTAMP:20260423T073005Z
DTSTART:20261011T220000Z
DTEND:20261011T220000Z
URL:https://calendari.cc/event/12-o-tanquem-les-xarxes-colonials
LOCATION:online - https:// per tot arreu
STATUS:CONFIRMED
CATEGORIES:anticapitalisme,anticolonialisme,autogestió,descentralització,em
	ancipació digital,fedivers,privacitat digital,programari lliure,XXIV Mostr
	a del Llibre Anarquista
END:VEVENT
END:VCALENDAR
